BEGIN:VCALENDAR
VERSION:2.0
PRODID:-//Contratero//ES
CALSCALE:GREGORIAN
METHOD:PUBLISH
BEGIN:VEVENT
UID:2024/09C SER@contratero.es
DTSTAMP:20260421T025745Z
DTSTART:20240314T235959
DTEND:20240315T005959
SUMMARY:Cierre: Elaboración de un diagnóstico de la situación de c
DESCRIPTION:Elaboración de un diagnóstico de la situación de cobertura de los servicios de televisión digital en la Provincia de Palencia\\n\\nOrganismo: Presidencia de la Diputación Provincial de Palencia\\n\\nVer en Contratero: https://contratero.es/contracts/2024/09C SER
URL:https://contratero.es/contracts/2024/09C SER
STATUS:CONFIRMED
BEGIN:VALARM
TRIGGER:-P1D
ACTION:DISPLAY
DESCRIPTION:Recordatorio: Elaboración de un diagnóstico 
END:VALARM
END:VEVENT
END:VCALENDAR